BEGIN:VCALENDAR
VERSION:2.0
PRODID:-//wp-events-plugin.com//6.6.5//EN
TZID:Europe/Amsterdam
X-WR-TIMEZONE:Europe/Amsterdam
BEGIN:VEVENT
UID:6-1426@offshore-energy.biz
DTSTART:20220511T000000Z
DTEND:20220513T000000Z
DTSTAMP:20220411T131108Z
URL:https://www.offshore-energy.biz/events/37th-international-scientific-e
 xpert-meeting-of-gas-professionals/
SUMMARY:37th International Scientific &amp\; Expert Meeting of Gas Professi
 onals
DESCRIPTION:37th International Scientific &amp\; Expert Meeting of Gas Prof
 essionals \n\n11 – 13 May\, 2022\, Opatija\, Croatia\n\nThe 37th edition
  of the largest gas conference &amp\; exhibition in Southeast Europe\, org
 anized by the Croatian Gas Association\, member of the International Gas U
 nion (IGU) will attract a great number of distinguished gas and energy exp
 erts and high-ranking managers from numerous gas companies. Speakers and e
 xhibitors from all around the world will take part in this international e
 vent.\n\nThe Congress will cover a series of current topics important for 
 the gas and energy industry which extend along the entire natural gas chai
 n and crucial issues which will determine development of the natural gas m
 arket in the future. Dynamic changes on the natural gas and LNG market\, s
 urge of gas prices in Europe\, current trends and future projections will 
 be one of the key topics of the major gas event in Croatia.\n\nCheck out t
 he CONFERENCE PROGRAM here: https://susret.hsup.hr/en/programme/\n\nBOOK Y
 OUR STAND here: https://susret.hsup.hr/en/exhibition/\n\nREGISTER here: ht
 tps://susret.hsup.hr/en/registration-of-participants/
ATTACH;FMTTYPE=image/jpeg:https://www.offshore-energy.biz/wp-content/uploa
 ds/sites/6/2022/04/conf.jpg
LOCATION:\, Opatija\, Croatia
X-APPLE-STRUCTURED-LOCATION;VALUE=URI;X-ADDRESS=Opatija\, Croatia;X-APPLE-R
 ADIUS=100;X-TITLE=:geo:0,0
END:VEVENT
END:VCALENDAR