BEGIN:VCALENDAR
VERSION:2.0
PRODID:-//wp-events-plugin.com//6.6.5//EN
TZID:Europe/Amsterdam
X-WR-TIMEZONE:Europe/Amsterdam
BEGIN:VEVENT
UID:6-1356@offshore-energy.biz
DTSTART;VALUE=DATE:20211115
DTEND;VALUE=DATE:20211119
DTSTAMP:20210525T061903Z
URL:https://www.offshore-energy.biz/events/adipec/
SUMMARY:ADIPEC
DESCRIPTION:Following the success of ADIPEC 2020 Virtual\, the next full in
 -person annual exhibition and conferences will take place from November 15
  to 18\, 2021.\n\nADIPEC will retain its position as the premium event par
 tner of choice and market leader within the global energy event industry\,
  with ADIPEC 2021 promising a powerful platform for industry stakeholders 
 and its value chain to display their innovation\, launch new products\, st
 rike partnerships and conduct business that will fast track their recovery
  and highlight pathways to a successful future.\n\nADIPEC is the world’s
  largest and most influential event for the oil and gas industry\, bringin
 g together Energy Ministers\, global CEOs and leading decision makers alon
 gside the companies that shape the future of oil and gas supply across 4 d
 ays of focused business\, dialogue and knowledge transfer that addresses t
 oday’s energy needs and defines tomorrow’s energy landscape.\n\nADIPEC
  gives 2\,200+ exhibitors unparalleled access to the top decision-makers i
 n the oil and gas industry and is the world’s foremost meeting place to 
 identify innovative ideas\, launch revolutionary new products\, strike div
 erse partnerships and do business in the lower carbon energy era\, with an
  estimated $18.9 Billion worth of business agreements taking place across 
 the 4 days at ADIPEC 2019.
ATTACH;FMTTYPE=image/jpeg:https://www.offshore-energy.biz/wp-content/uploa
 ds/sites/6/2020/03/ADIPEC-Exhibition-hall.jpeg
END:VEVENT
END:VCALENDAR