BEGIN:VCALENDAR
VERSION:2.0
PRODID:-//wp-events-plugin.com//6.6.5//EN
TZID:Europe/Amsterdam
X-WR-TIMEZONE:Europe/Amsterdam
BEGIN:VEVENT
UID:6-1388@offshore-energy.biz
DTSTART;TZID=Asia/Singapore;VALUE=DATE:20220315
DTEND;TZID=Asia/Singapore;VALUE=DATE:20220319
DTSTAMP:20210525T062008Z
URL:https://www.offshore-energy.biz/events/asia-pacific-maritime-apm/
SUMMARY:Asia Pacific Maritime (APM)
DESCRIPTION:Asia Pacific Maritime (APM) is the premier exhibition and confe
 rence in Asia showcasing a complete overview of the vessel sectors – ser
 vices and solutions\, technology\, vessels equipment\, machineries\, suppl
 ies\, and many more.\n\nWith 16 editions of proven track record\, APM give
 s you 3 days of opportunities to connect with decision makers and to sharp
 en industry understanding in Asia.
ATTACH;FMTTYPE=image/jpeg:https://www.offshore-energy.biz/wp-content/uploa
 ds/sites/6/2021/04/APM_Logo_Without_Edition_Horizontal1.jpg
LOCATION:Marine Bay Sands\, 10 Bayfront Ave\, Singapore\, Singapore
X-APPLE-STRUCTURED-LOCATION;VALUE=URI;X-ADDRESS=10 Bayfront Ave\, Singapore
 \, Singapore;X-APPLE-RADIUS=100;X-TITLE=Marine Bay Sands:geo:0,0
END:VEVENT
BEGIN:VTIMEZONE
TZID:Asia/Singapore
X-LIC-LOCATION:Asia/Singapore
BEGIN:STANDARD
DTSTART:20210315T000000
TZOFFSETFROM:+0800
TZOFFSETTO:+0800
TZNAME:+08
END:STANDARD
END:VTIMEZONE
END:VCALENDAR