BEGIN:VCALENDAR
VERSION:2.0
PRODID:-//wp-events-plugin.com//6.6.5//EN
TZID:Europe/Amsterdam
X-WR-TIMEZONE:Europe/Amsterdam
BEGIN:VEVENT
UID:6-1464@offshore-energy.biz
DTSTART;VALUE=DATE:20230606
DTEND;VALUE=DATE:20230609
DTSTAMP:20230607T132419Z
URL:https://www.offshore-energy.biz/events/breakbulk-europe-2/
SUMMARY:Breakbulk Europe
DESCRIPTION:\n\nWe're delighted to announce that on the 6-8 June 2023 we'll
  once again be uniting the project cargo and breakbulk industry. \nBringi
 ng together over 4000 companies\, Breakbulk Europe provides the ultimate n
 etworking platform to grow your connections\, generate new business and st
 rengthen key existing relationships. Join the industry decision makers in 
 Rotterdam this June to drive the connections and innovation that support t
 he completion of global projects.
ATTACH;FMTTYPE=image/jpeg:https://www.offshore-energy.biz/wp-content/uploa
 ds/sites/6/2023/06/Dia16.png?image-crop-positioner-ts=1686143288
LOCATION:ROTTERDAM AHOY\, AHOYWEG 10\, Rotterdam\, Netherlands
X-APPLE-STRUCTURED-LOCATION;VALUE=URI;X-ADDRESS=AHOYWEG 10\, Rotterdam\, Ne
 therlands;X-APPLE-RADIUS=100;X-TITLE=ROTTERDAM AHOY:geo:0,0
END:VEVENT
END:VCALENDAR