BEGIN:VCALENDAR
VERSION:2.0
PRODID:-//wp-events-plugin.com//6.6.5//EN
TZID:Europe/Amsterdam
X-WR-TIMEZONE:Europe/Amsterdam
BEGIN:VEVENT
UID:6-1383@offshore-energy.biz
DTSTART;VALUE=DATE:20210714
DTEND;VALUE=DATE:20210716
DTSTAMP:20210311T075752Z
URL:https://www.offshore-energy.biz/events/dredging-in-asia/
SUMMARY:Dredging in Asia
DESCRIPTION:The mission of this virtual conference is to highlight the rece
 nt trends and developments in his space\, identify emerging dredging requi
 rements\, and discuss the key upcoming opportunities and challenges across
  key dredging markets in Asia. 
ATTACH;FMTTYPE=image/jpeg:https://www.offshore-energy.biz/wp-content/uploa
 ds/sites/6/2021/03/Band-3.jpg
END:VEVENT
END:VCALENDAR