BEGIN:VCALENDAR
VERSION:2.0
PRODID:-//wp-events-plugin.com//6.6.5//EN
TZID:Europe/Amsterdam
X-WR-TIMEZONE:Europe/Amsterdam
BEGIN:VEVENT
UID:6-1460@offshore-energy.biz
DTSTART;VALUE=DATE:20230620
DTEND;VALUE=DATE:20230623
DTSTAMP:20230607T132213Z
URL:https://www.offshore-energy.biz/events/electric-hybrid-marine-expo/
SUMMARY:Electric &amp\; Hybrid Marine Expo
DESCRIPTION:The world's leading exhibtion and conference for marine electri
 fication\, decarbonization\, hybridization\, future fuels and low-carbon s
 hipping solutions.\n\nElectric &amp\; Hybrid Marine Expo Europe\, taking p
 lace in RAI Amsterdam\, the Netherlands on June 20\, 21 &amp\; 22\, 2023\,
  will showcase next-generation electirc and hybrid marine transportation a
 nd propulsion technologies\, shore charging equipment and fuel-saving solu
 tions. With its 180+ exhibitors\, this is the event for you to discover ef
 ficient emerging technologies and source suppliers and partners to help yo
 u on your path to decarbonization and zero-emission shipping.\n\nJoin 100+
  speakers at Electric &amp\; Hybrid Marine Expo Europe Conference\, the wo
 rld's only international conference exclusively dedicated to the electrifi
 cation and hybridization of marine vessels along with the associated suppo
 rting infrastructure for ports\, charging\, fueling and energy supply.\n\n
 The search for cleaner\, more efficient fuel-saving propulsion systems sta
 rts abd ebds ub Ansterdan tgus Hybe! We'll see you there!
ATTACH;FMTTYPE=image/jpeg:https://www.offshore-energy.biz/wp-content/uploa
 ds/sites/6/2023/06/Dia12.png?image-crop-positioner-ts=1686143264
LOCATION:RAI Amsterdam\, Europaplein 24\, Amsterdam\, 1078 GZ\, Netherlands
X-APPLE-STRUCTURED-LOCATION;VALUE=URI;X-ADDRESS=Europaplein 24\, Amsterdam\
 , 1078 GZ\, Netherlands;X-APPLE-RADIUS=100;X-TITLE=RAI Amsterdam:geo:0,0
END:VEVENT
END:VCALENDAR