BEGIN:VCALENDAR
VERSION:2.0
PRODID:-//wp-events-plugin.com//6.6.5//EN
TZID:Europe/Amsterdam
X-WR-TIMEZONE:Europe/Amsterdam
BEGIN:VEVENT
UID:6-1597@offshore-energy.biz
DTSTART;VALUE=DATE:20251104
DTEND;VALUE=DATE:20251108
DTSTAMP:20250113T134129Z
URL:https://www.offshore-energy.biz/events/europort-2025/
SUMMARY:Europort 2025
DESCRIPTION:Europort 2025 maritime exhibition\nEuroport\, organized in the
  world port city of Rotterdam\, serves as the premier international mariti
 me event for cutting-edge technology and complex shipbuilding. In 2023\, t
 he event attracted 24\,470 professionals from 100 countries and featured 1
 \,051 exhibitors\, making it one of the world’s largest maritime B2B pla
 tforms for networking and knowledge exchange.\n\nWith over 80 years of his
 tory\, we remain committed to providing a platform where maritime professi
 onals from around the globe can connect\, collaborate\, and innovate.\n\nE
 uroport covers all aspects of the maritime industry\, with a particular em
 phasis on high-tech vessels. The exhibition promises to be a true display 
 of the latest advancements in maritime technology.
ATTACH;FMTTYPE=image/jpeg:https://www.offshore-energy.biz/wp-content/uploa
 ds/sites/6/2025/01/europort-logo-vierkant-blauwvlak-rgb-dp.png?image-crop-
 positioner-ts=1736775671
LOCATION:Rotterdam Ahoy\, Ahoyweg 10\, Rotterdam\, 3084BA\, Netherlands
X-APPLE-STRUCTURED-LOCATION;VALUE=URI;X-ADDRESS=Ahoyweg 10\, Rotterdam\, 30
 84BA\, Netherlands;X-APPLE-RADIUS=100;X-TITLE=Rotterdam Ahoy:geo:0,0
END:VEVENT
END:VCALENDAR