BEGIN:VCALENDAR
VERSION:2.0
PRODID:-//wp-events-plugin.com//6.6.5//EN
TZID:Europe/Amsterdam
X-WR-TIMEZONE:Europe/Amsterdam
BEGIN:VEVENT
UID:6-1355@offshore-energy.biz
DTSTART;VALUE=DATE:20211102
DTEND;VALUE=DATE:20211106
DTSTAMP:20210105T105843Z
URL:https://www.offshore-energy.biz/events/europort/
SUMMARY:Europort
DESCRIPTION:2020 will be remembered as a year of disruption for people and 
 society. The pandemic impact is massive and unprecedented. It transforms e
 conomies and social behavior\, regulations and business operations. Compan
 ies are forced to transform quickly or start new business models. This lea
 ds to creativity and innovation\, accelerated digitalization\, new product
 s and services and restructuring of the playing field.\n\nThe maritime wor
 ld is no exception. Our rivers and seas are filled with challenges and opp
 ortunities. As a community of pragmatic people\, we can face changes and t
 urn them into chances. Europort invites you to be part of the journey of t
 he maritime transition\; to explore the power of technology and transparen
 cy. We invite you to engineer\, build and maintain sustainable (relation)s
 hips. TOGETHER\, TODAY\, TOMORROW.\n\n&nbsp\;
ATTACH;FMTTYPE=image/jpeg:https://www.offshore-energy.biz/wp-content/uploa
 ds/sites/6/2020/11/europort-2019-37.jpg
LOCATION:Rotterdam Ahoy\, Ahoyweg 10\, Rotterdam\, 3084BA\, Netherlands
X-APPLE-STRUCTURED-LOCATION;VALUE=URI;X-ADDRESS=Ahoyweg 10\, Rotterdam\, 30
 84BA\, Netherlands;X-APPLE-RADIUS=100;X-TITLE=Rotterdam Ahoy:geo:0,0
END:VEVENT
END:VCALENDAR