BEGIN:VCALENDAR
VERSION:2.0
PRODID:-//wp-events-plugin.com//6.6.5//EN
TZID:Europe/Amsterdam
X-WR-TIMEZONE:Europe/Amsterdam
BEGIN:VEVENT
UID:6-1270@offshore-energy.biz
DTSTART;VALUE=DATE:20201012
DTEND;VALUE=DATE:20201014
DTSTAMP:20200728T135502Z
URL:https://www.offshore-energy.biz/events/flame-gas-lng-conference-2020/
SUMMARY:Flame gas &amp\; LNG Virtual conference 2020
DESCRIPTION:Flame gas &amp\; LNG Virtual conference 2020\nThe Flame gas and
  LNG conference in 2020 is the 26th edition. At this event the global Gas 
 and LNG industry meets each other online. The goals of this conference are
  connecting the gas markets\, increase the security of supply and getting 
 ready for a decarbonised future. At this day it is possible to connect and
  share knowledge with each other.
ATTACH;FMTTYPE=image/jpeg:https://www.offshore-energy.biz/wp-content/uploa
 ds/sites/6/2020/03/310A7756.jpg
LOCATION:Hotel Okura\, Ferdinand Bolstraat 333 \, Amsterdam\, 1072 LH \, Ne
 therlands
X-APPLE-STRUCTURED-LOCATION;VALUE=URI;X-ADDRESS=Ferdinand Bolstraat 333 \, 
 Amsterdam\, 1072 LH \, Netherlands;X-APPLE-RADIUS=100;X-TITLE=Hotel Okura:
 geo:0,0
END:VEVENT
END:VCALENDAR