BEGIN:VCALENDAR
VERSION:2.0
PRODID:-//wp-events-plugin.com//6.6.5//EN
TZID:Europe/Amsterdam
X-WR-TIMEZONE:Europe/Amsterdam
BEGIN:VEVENT
UID:6-1364@offshore-energy.biz
DTSTART:20210309T000000Z
DTEND:20210310T000000Z
DTSTAMP:20201208T125114Z
URL:https://www.offshore-energy.biz/events/global-lng-bunkering-experience
 /
SUMMARY:Global LNG Bunkering Experience
DESCRIPTION:Attending the LNG Bunkering Virtual Experience on 9th – 10th 
 March 2021\, will provide you with the latest global insights into how rap
 idly the market is expanding both technically and commercially which will 
 provide you with access to first-hand experiences to grow your company’s
  business.\n\n&nbsp\;
ATTACH;FMTTYPE=image/jpeg:https://www.offshore-energy.biz/wp-content/uploa
 ds/sites/6/2020/12/1920x1200_LNG_Bunkering.jpg
END:VEVENT
END:VCALENDAR