BEGIN:VCALENDAR
VERSION:2.0
PRODID:-//wp-events-plugin.com//6.6.5//EN
TZID:Europe/Amsterdam
X-WR-TIMEZONE:Europe/Amsterdam
BEGIN:VEVENT
UID:6-1339@offshore-energy.biz
DTSTART;VALUE=DATE:20201028
DTEND;VALUE=DATE:20201029
DTSTAMP:20201022T074658Z
URL:https://www.offshore-energy.biz/events/installing-miniature-offshore-w
 ind-farm/
SUMMARY:Installing miniature offshore wind farm
DESCRIPTION:This is an educative serious game\, made by DOB-Academy. During
  the “online installing a miniature wind farm” case\, participants wil
 l be divided into teams. The teams represent companies interested in build
 ing an offshore wind farm. The participants need to use the knowledge from
  the short lecture given in advance to design and plan the optimal wind fa
 rm and installation strategy.
ATTACH;FMTTYPE=image/jpeg:https://www.offshore-energy.biz/wp-content/uploa
 ds/sites/6/2020/10/banner-machine-learning-1024x385-1.jpg
END:VEVENT
END:VCALENDAR