BEGIN:VCALENDAR
VERSION:2.0
PRODID:-//wp-events-plugin.com//6.6.5//EN
TZID:Europe/Amsterdam
X-WR-TIMEZONE:Europe/Amsterdam
BEGIN:VEVENT
UID:6-1370@offshore-energy.biz
DTSTART:20210422T000000Z
DTEND:20210422T235900Z
DTSTAMP:20210223T082025Z
URL:https://www.offshore-energy.biz/events/ipf-2021/
SUMMARY:IPF 2021 - Apr 22\, May 13 &amp\; June 17
DESCRIPTION:The Business Network for Offshore Wind’s International Partne
 ring Forum (IPF) is the premier offshore wind industry conference. From on
 e-on-one networking to sessions on the latest industry developments\, IPF 
 is dedicated to growing the offshore wind energy industry forward. The con
 ference will be packed with cutting-edge educational programming\, an exhi
 bit hall filled with global companies\, networking opportunities and more.
  This year\, IPF will be held in a two-parts: in-person and virtual. IPF T
 ogether will be held in Richmond\, Virginia on August 24-26 and will be li
 mited to 1\,250 attendees to ensure compliance with Virginia state COVID-1
 9 Phase 3 guidelines (read our COVID refund policy.) IPF Virtual will be t
 aking place on three separate dates - April 22\, May 13\, and June 17.\n\n
 Learn more and register today: https://bit.ly/2NNh92w
ATTACH;FMTTYPE=image/jpeg:https://www.offshore-energy.biz/wp-content/uploa
 ds/sites/6/2021/02/Naamloos-3.jpg
END:VEVENT
END:VCALENDAR