BEGIN:VCALENDAR
VERSION:2.0
PRODID:-//wp-events-plugin.com//6.6.5//EN
TZID:Europe/Amsterdam
X-WR-TIMEZONE:Europe/Amsterdam
BEGIN:VEVENT
UID:6-1357@offshore-energy.biz
DTSTART;VALUE=DATE:20211019
DTEND;VALUE=DATE:20211023
DTSTAMP:20210105T105506Z
URL:https://www.offshore-energy.biz/events/kormarine/
SUMMARY:Kormarine
DESCRIPTION:South Korea has long been a country of the world’s top shipbu
 ilder in terms of annual orders and construction volume. Despite the recen
 t long-term economic recession of our global industry\, South Korea has be
 en winning 40% of the world’s orders in the first half of 2018 due to a 
 steady recovery based on technology-intensive specialized vessels such as 
 LNG carries.\n\nBusan is the largest port city in Korea\, and it is a mari
 time capital where related government\, organizations\, and industry-leadi
 ng businesses are located.Including world-class shipyards\, over 50 shipya
 rds are based in Busan and neighboring area (such as Ulsan and Gyeongsangn
 am-do Province)\, and it creates positive synergy for the industry.\n\nKOR
 MARINE\, which held every two years in Busan\, is a festival of people fro
 m shipbuilding and maritime industries all around the world. Join the exci
 tement of KORMARINE\, and define the future of our global industry.
ATTACH;FMTTYPE=image/jpeg:https://www.offshore-energy.biz/wp-content/uploa
 ds/sites/6/2020/11/kormarine.jpg
LOCATION:BEXCO\, 55 APEC-ro\, U-dong\, Haeundae-gu\, Busan\, South Korea
X-APPLE-STRUCTURED-LOCATION;VALUE=URI;X-ADDRESS=55 APEC-ro\, U-dong\, Haeun
 dae-gu\, Busan\, South Korea;X-APPLE-RADIUS=100;X-TITLE=BEXCO:geo:0,0
END:VEVENT
END:VCALENDAR