BEGIN:VCALENDAR
VERSION:2.0
PRODID:-//wp-events-plugin.com//6.6.5//EN
TZID:Europe/Amsterdam
X-WR-TIMEZONE:Europe/Amsterdam
BEGIN:VEVENT
UID:6-1278@offshore-energy.biz
DTSTART;VALUE=DATE:20210428
DTEND;VALUE=DATE:20210430
DTSTAMP:20201120T131710Z
URL:https://www.offshore-energy.biz/events/maintenance-antwerpen-2020/
SUMMARY:Maintenance Antwerpen 2021
DESCRIPTION:Maintenance Antwerpen 2020\nMaintenance 2020 is a trade event f
 or industrial maintenance. There are possibilities to discover new innovat
 ions and technology solutions. It is a platform where the visitor can conn
 ect with new clients and to catch up with existing business partners. Furt
 her the visitor has the opportunity to choose their own programme of maste
 rclasses to obtain new insights.
ATTACH;FMTTYPE=image/jpeg:https://www.offshore-energy.biz/wp-content/uploa
 ds/sites/6/2020/03/Virtual-reality-Maintenance-zone.jpg
LOCATION:Antwerp Expo\, Jan van Rijswijcklaan 191\, Antwerp\, 2020 \, Belgi
 um
X-APPLE-STRUCTURED-LOCATION;VALUE=URI;X-ADDRESS=Jan van Rijswijcklaan 191\,
  Antwerp\, 2020 \, Belgium;X-APPLE-RADIUS=100;X-TITLE=Antwerp Expo:geo:0,0
END:VEVENT
END:VCALENDAR