BEGIN:VCALENDAR
VERSION:2.0
PRODID:-//wp-events-plugin.com//6.6.5//EN
TZID:Europe/Amsterdam
X-WR-TIMEZONE:Europe/Amsterdam
BEGIN:VEVENT
UID:6-1386@offshore-energy.biz
DTSTART;VALUE=DATE:20210706
DTEND;VALUE=DATE:20210709
DTSTAMP:20210319T082027Z
URL:https://www.offshore-energy.biz/events/mastering-public-private-partne
 rships-masterclass-2021/
SUMMARY:Mastering Public Private Partnerships Masterclass 2021
DESCRIPTION:This 3-day practical Private Public Partnerships (PPP) Mastercl
 ass has been specially developed for professionals and organizations who a
 re looking to get involved in PPP projects.
ATTACH;FMTTYPE=image/jpeg:https://www.offshore-energy.biz/wp-content/uploa
 ds/sites/6/2021/03/xx.jpg
END:VEVENT
END:VCALENDAR