BEGIN:VCALENDAR
VERSION:2.0
PRODID:-//wp-events-plugin.com//6.6.5//EN
TZID:Europe/Amsterdam
X-WR-TIMEZONE:Europe/Amsterdam
BEGIN:VEVENT
UID:6-1354@offshore-energy.biz
DTSTART;VALUE=DATE:20201201
DTEND;VALUE=DATE:20201205
DTSTAMP:20201124T131643Z
URL:https://www.offshore-energy.biz/events/ocean-energy-europe-2020-oee202
 0/
SUMMARY:Ocean Energy Europe 2020 (OEE2020)
DESCRIPTION:OEE2020 – Powered by the ocean\n&nbsp\;\n\n\nThe annual Ocean
  Energy Europe Conference &amp\; Exhibition is the meeting point for the w
 hole ocean energy sector.\n\nNetwork\, raise your profile and learn about 
 the latest industry developments via our programme.\n\nOEE2020 is coming t
 o you! Our annual event is moving online\, so you won’t miss out on anyt
 hing this year. The new event dates are 1 – 4 December and registration 
 will be open soon.\n\nGoing virtual means we can delivery the best event p
 ossible without compromising on safety. It also means that it is now easie
 r than ever to join the event\, from anywhere in the world!\n\nWhile it’
 s not quite business-as-usual\, there will be plenty of opportunities to c
 onnect with your peers and get up to speed with the latest news from the s
 ector\n\n\nRegister now for the online event via here.
ATTACH;FMTTYPE=image/jpeg:https://www.offshore-energy.biz/wp-content/uploa
 ds/sites/6/2020/11/register-at-home-blue-to-green-website-banner-2800x666-
 min.jpg
END:VEVENT
END:VCALENDAR