BEGIN:VCALENDAR
VERSION:2.0
PRODID:-//wp-events-plugin.com//6.6.5//EN
TZID:Europe/Amsterdam
X-WR-TIMEZONE:Europe/Amsterdam
BEGIN:VEVENT
UID:6-1329@offshore-energy.biz
DTSTART;VALUE=DATE:20201027
DTEND;VALUE=DATE:20201029
DTSTAMP:20200923T094752Z
URL:https://www.offshore-energy.biz/events/offshore-energy-2020-company-sh
 owcases/
SUMMARY:Offshore Energy 2020: Company Showcases
DESCRIPTION:\n\n\n\n\nWatch the virtual company showcases and get in touch 
 with the Offshore Energy Exhibitors. Showcases are presentations by our ex
 hibitors about a recent innovation\, new product or service. This can be a
  presentation\, but also a tour through a company’s workplace or a demo 
 of a product.\n\n\n\n\n\n
ATTACH;FMTTYPE=image/jpeg:https://www.offshore-energy.biz/wp-content/uploa
 ds/sites/6/2020/09/FB9A3884_28859146_Flickfeeder.jpg
LOCATION:RAI Amsterdam\, Europaplein 24\, Amsterdam\, 1078 GZ\, Netherlands
X-APPLE-STRUCTURED-LOCATION;VALUE=URI;X-ADDRESS=Europaplein 24\, Amsterdam\
 , 1078 GZ\, Netherlands;X-APPLE-RADIUS=100;X-TITLE=RAI Amsterdam:geo:0,0
END:VEVENT
END:VCALENDAR