BEGIN:VCALENDAR
VERSION:2.0
PRODID:-//wp-events-plugin.com//6.6.5//EN
TZID:Europe/Amsterdam
X-WR-TIMEZONE:Europe/Amsterdam
BEGIN:VEVENT
UID:6-1598@offshore-energy.biz
DTSTART;VALUE=DATE:20251125
DTEND;VALUE=DATE:20251127
DTSTAMP:20250219T132918Z
URL:https://www.offshore-energy.biz/events/offshore-energy-exhibition-conf
 erence-oeec-2025/
SUMMARY:Offshore Energy Exhibition &amp\; Conference (OEEC) 2025
DESCRIPTION:Offshore Energy Exhibition &amp\; Conference (OEEC) is Europe
 ’s leading annual event for the offshore energy and maritime industries
 \, with a particular emphasis on Northwest Europe. Its cross sector cover
 age focuses on key markets such as offshore wind\, oil and gas\, and sust
 ainable maritime solutions.\n\nThe exhibition floor is the place where peo
 ple meet to do business and connect with relevant stakeholders like indust
 ry leaders and policy makers across global markets. Established companies\
 , innovators\, startups\, and other key decision-makers come\ntogether to 
 shape the offshore energy landscape.
ATTACH;FMTTYPE=image/jpeg:https://www.offshore-energy.biz/wp-content/uploa
 ds/sites/6/2025/02/20241126-1053-Timo-BB1_0161.jpg?image-crop-positioner-t
 s=1739971722
LOCATION:RAI Amsterdam\, Europaplein 24\, Amsterdam\, 1078 GZ\, Netherlands
X-APPLE-STRUCTURED-LOCATION;VALUE=URI;X-ADDRESS=Europaplein 24\, Amsterdam\
 , 1078 GZ\, Netherlands;X-APPLE-RADIUS=100;X-TITLE=RAI Amsterdam:geo:0,0
END:VEVENT
END:VCALENDAR