BEGIN:VCALENDAR
VERSION:2.0
PRODID:-//wp-events-plugin.com//6.6.5//EN
TZID:Europe/Amsterdam
X-WR-TIMEZONE:Europe/Amsterdam
BEGIN:VEVENT
UID:6-1326@offshore-energy.biz
DTSTART;VALUE=DATE:20201001
DTEND;VALUE=DATE:20201003
DTSTAMP:20200910T064153Z
URL:https://www.offshore-energy.biz/events/offshore-floating-wind-europe-2
 020/
SUMMARY:Offshore &amp\; Floating Wind Europe 2020
DESCRIPTION:Reuters Events' Offshore &amp\; Floating Wind Europe Virtual Co
 nference (#OWEU20) will provide a complete update of where the industry is
  headed. Over 2 days\, attendees will leave with not only a strategic outl
 ook of markets\, upcoming tenders\, contracts and project updates\, but al
 so a technical understanding of how to raise standards throughout the proj
 ect lifespan. Now in its 12th year\, the event continues to grow from stre
 ngth to strength and for the first time ever – will be hosted online.\n\
 nFree Taster Passes are still available here – granting you free access 
 to both keynote discussions with OW Ocean Winds\, Eneco\, Northland Pow
 er Inc. RWE Renewables\, EDF Renewables UK\, World Forum Offshore Wind\, B
 VG Associates\, Mainstream Renewable Power\, Cierco &amp\; Flotation Energ
 y as they discuss developments in the European floating wind industry\, an
 d reflect on 2020 and the plan ahead.\n\nFind out more here
ATTACH;FMTTYPE=image/jpeg:https://www.offshore-energy.biz/wp-content/uploa
 ds/sites/6/2020/09/OWEU20-964x250-2.png
END:VEVENT
END:VCALENDAR