BEGIN:VCALENDAR
VERSION:2.0
PRODID:-//wp-events-plugin.com//6.6.5//EN
TZID:Europe/Amsterdam
X-WR-TIMEZONE:Europe/Amsterdam
BEGIN:VEVENT
UID:6-1359@offshore-energy.biz
DTSTART;VALUE=DATE:20210119
DTEND;VALUE=DATE:20210121
DTSTAMP:20201207T082634Z
URL:https://www.offshore-energy.biz/events/offshore-power-transmission-hvd
 c-2021/
SUMMARY:Offshore Power Transmission &amp\; HVDC 2021
DESCRIPTION:Offshore Power Transmission &amp\; HVDC 2021 welcomes decision-
 makers from power transmission departments of leading Power Generation\, D
 SO’s and TSO’s in an exclusive closed-group and business-friendly envi
 ronment for peer-to-peer networking\, ample knowledge-sharing and learning
  opportunities in the highly evolving energy market.  This event will exa
 mine latest developments\, challenges\, opportunities and technologies of 
 HVDC to support the expansion of Offshore Power Transmission.\n\nThe large
 -scale expansion of the offshore power generation\, particularly in wind\,
  is introducing new challenges in power transmission in terms of reliably 
 and efficiently. Grid complexity increases as interconnection with these p
 ower systems is expanding. HVDC system gives engineers a solution as an al
 ternative for power transmission. The use of HVDC transmission technology 
 is well known and has numerous benefits in long-distance transmission\, bu
 lk electricity delivery\, transmission costs\, and the environment. Furt
 her considerations are made for long-term expansion planning as a result o
 f the long preparation phase needed for offshore projects.\n\nJoin the dis
 cussion with your views and opinions rather than being a passive listener!
ATTACH;FMTTYPE=image/jpeg:https://www.offshore-energy.biz/wp-content/uploa
 ds/sites/6/2020/12/cover-photo-2.jpg
END:VEVENT
END:VCALENDAR