BEGIN:VCALENDAR
VERSION:2.0
PRODID:-//wp-events-plugin.com//6.6.5//EN
TZID:Europe/Amsterdam
X-WR-TIMEZONE:Europe/Amsterdam
BEGIN:VEVENT
UID:6-1341@offshore-energy.biz
DTSTART:20201210T140000Z
DTEND:20201210T160000Z
DTSTAMP:20201124T084247Z
URL:https://www.offshore-energy.biz/events/online-session-careers-in-offsh
 ore-wind-powered-by-navingo-career/
SUMMARY:Online session ‘Careers in Offshore Wind’- Powered by Navingo C
 areer
DESCRIPTION:On 10 December 2020\, the online session ‘Careers in Offshore
  Wind – Powered by Navingo Career’ takes place. Discover career opport
 unities and impressive projects of the companies in the sector and start c
 onnecting. Participate for free in this thematic session by the Navingo Ca
 reer Event.\n\nDiscover the most impressive projects of companies in the o
 ffshore wind sector during the online Navingo Career Event thematic sessio
 n. Professionals tell all about what makes their job in sustainable energy
  so interesting. HR Managers will give you tips that help you apply with t
 hese companies. Moreover\, you’ll find out more about the trainings focu
 sed on offshore wind.\n\nBesides watching showcases and interviews\, you c
 an also get a matching interview with the participating companies. Looking
  for a job\, graduation assignment or traineeship? Make sure you participa
 te in the sessions so that you may get a short\, one-on-one introductory i
 nterview with the companies.\n\nPlease note that some parts of the program
 me will be in Dutch. The recording of the programme can also be viewed onl
 ine after the session.\n\nRegister now for the online session via here.
ATTACH;FMTTYPE=image/jpeg:https://www.offshore-energy.biz/wp-content/uploa
 ds/sites/6/2020/11/03.-Offshore-WIND-Event1.jpg
END:VEVENT
END:VCALENDAR