BEGIN:VCALENDAR
VERSION:2.0
PRODID:-//wp-events-plugin.com//6.6.5//EN
TZID:Europe/Amsterdam
X-WR-TIMEZONE:Europe/Amsterdam
BEGIN:VEVENT
UID:6-1352@offshore-energy.biz
DTSTART;VALUE=DATE:20210816
DTEND;VALUE=DATE:20210820
DTSTAMP:20210105T104549Z
URL:https://www.offshore-energy.biz/events/otc-houston/
SUMMARY:OTC Houston
DESCRIPTION:The Offshore Technology Conference (OTC) is where energy profes
 sionals meet to exchange ideas and opinions to advance scientific and tech
 nical knowledge for offshore resources and environmental matters.\n\nCeleb
 rating 50 years since 1969\, OTC’s flagship conference is held annually 
 at NRG Park (formerly Reliant Park) in Houston. OTC has expanded technic
 ally and globally with the Arctic Technology Conference\, OTC Brasil\, an
 d OTC Asia.\n\nOTC is sponsored by 13 industry organizations and societ
 ies\, who work cooperatively to develop the technical program. OTC also ha
 s endorsing and supporting organizations.
ATTACH;FMTTYPE=image/jpeg:https://www.offshore-energy.biz/wp-content/uploa
 ds/sites/6/2020/11/OTC_Outside_SquareCropped.jpg
END:VEVENT
END:VCALENDAR