BEGIN:VCALENDAR
VERSION:2.0
PRODID:-//wp-events-plugin.com//6.6.5//EN
TZID:Europe/Amsterdam
X-WR-TIMEZONE:Europe/Amsterdam
BEGIN:VEVENT
UID:6-1465@offshore-energy.biz
DTSTART:20230613T000000Z
DTEND:20230615T000000Z
DTSTAMP:20230607T132351Z
URL:https://www.offshore-energy.biz/events/seawork-2/
SUMMARY:Seawork
DESCRIPTION:\n\nEurope’s largest commercial marine and workboat exhibitio
 n.\n\nJoin us and discover what’s new in the commercial marine industry
 .\n\nMeet UK Government Departments\, including the National Shipbuilding
  Office (NSO)\, Ministry of Defence (MOD) and the newly formed Department 
 for Business and Trade (DBT) hosting business briefings.\n\nAttend Commer
 cial Marine Network’s Get Set For Workboat 2050 series 3 session 5: Port
  Infrastructure &amp\; Alternative Fuels\n\nLearn from - bitesize\, in-pe
 rson Seawork Conference sessions focusing on specific topics relevant and 
 make a difference.\n\nDiscover the latest equipment\, services\, projects
  and vessels at the Seawork Innovations Showcase\, supported by SMI.\n\nHe
 ar from Industry leaders on ‘Understanding the Power of Tidal Projects
 ’\, hosted by The Civil Engineering Contractors Association (CECA).\n\nF
 ind out about joining the workforce of the future at Seawork’s Careers 
 &amp\; Training Day.\n\nTake part in the Workboat Association’s Safety 
 Forum\, highlighting new regulations in this industry sector.
ATTACH;FMTTYPE=image/jpeg:https://www.offshore-energy.biz/wp-content/uploa
 ds/sites/6/2023/06/Dia6.png
LOCATION:Mayflower Park\, Mayflower Park\, Southampton\, United Kingdom
X-APPLE-STRUCTURED-LOCATION;VALUE=URI;X-ADDRESS=Mayflower Park\, Southampto
 n\, United Kingdom;X-APPLE-RADIUS=100;X-TITLE=Mayflower Park:geo:0,0
END:VEVENT
END:VCALENDAR