BEGIN:VCALENDAR
VERSION:2.0
PRODID:-//wp-events-plugin.com//6.6.5//EN
TZID:Europe/Amsterdam
X-WR-TIMEZONE:Europe/Amsterdam
BEGIN:VEVENT
UID:6-1586@offshore-energy.biz
DTSTART;VALUE=DATE:20250610
DTEND;VALUE=DATE:20250613
DTSTAMP:20241030T100406Z
URL:https://www.offshore-energy.biz/events/seawork-2025/
SUMMARY:Seawork 2025
DESCRIPTION:Seawork looks ahead to 2025 Seawork\, the European commercial m
 arine and workboats exhibition\, connects businesses to showcase innovatio
 ns\, solutions\, and new products. The event\, taking place over 10-12 Jun
 e 2025\, features demonstrations\, launches\, and announcements\, with vis
 itors able to explore the latest industry trends. Speed@Seawork returns to
  Cowes\, Isle of Wight in 2025 for its 6th edition\, featuring fast vessel
 s in security\, intervention\, and rescue operations. The Seawork Awards r
 ecognise excellence in the commercial marine sector\, highlighting outstan
 ding innovations from companies and individuals across Europe.\n\nSeawork 
 2025
ATTACH;FMTTYPE=image/jpeg:https://www.offshore-energy.biz/wp-content/uploa
 ds/sites/6/2024/10/SWK-logo-thumbail.png?image-crop-positioner-ts=17302825
 61
LOCATION:Mayflower Park Southampton\, Town Quay\, Southampton\, SO14 2AN\, 
 United Kingdom
X-APPLE-STRUCTURED-LOCATION;VALUE=URI;X-ADDRESS=Town Quay\, Southampton\, S
 O14 2AN\, United Kingdom;X-APPLE-RADIUS=100;X-TITLE=Mayflower Park Southam
 pton:geo:0,0
END:VEVENT
END:VCALENDAR