BEGIN:VCALENDAR
VERSION:2.0
PRODID:-//wp-events-plugin.com//6.6.5//EN
TZID:Europe/Amsterdam
X-WR-TIMEZONE:Europe/Amsterdam
BEGIN:VEVENT
UID:6-1305@offshore-energy.biz
DTSTART;VALUE=DATE:20210615
DTEND;VALUE=DATE:20210618
DTSTAMP:20201125T132059Z
URL:https://www.offshore-energy.biz/events/seawork-exhibition-2021/
SUMMARY:Seawork Exhibition 2021
DESCRIPTION:SeaWork Exhibition 2021\n\nSeawork is a commercial marine and w
 orkboat exhibition. The visitors have the opportunity to visit a undercove
 r exhibition space\, watch open air demonstrations and look at floating di
 splays. There is also the possibility to do business and attend conference
  sessions. The 23rd Seawork exhibition is held at Mayflower Park venue in 
 Southampton.
ATTACH;FMTTYPE=image/jpeg:https://www.offshore-energy.biz/wp-content/uploa
 ds/sites/6/2020/07/385x250-Seawork-afbeelding.png
LOCATION:Mayflower Park\, Mayflower Park Venue\, Southampton\, SO14 2AN\, U
 nited Kingdom
X-APPLE-STRUCTURED-LOCATION;VALUE=URI;X-ADDRESS=Mayflower Park Venue\, Sout
 hampton\, SO14 2AN\, United Kingdom;X-APPLE-RADIUS=100;X-TITLE=Mayflower P
 ark:geo:0,0
END:VEVENT
END:VCALENDAR