BEGIN:VCALENDAR
VERSION:2.0
PRODID:-//wp-events-plugin.com//6.6.5//EN
TZID:Europe/Amsterdam
X-WR-TIMEZONE:Europe/Amsterdam
BEGIN:VEVENT
UID:6-1285@offshore-energy.biz
DTSTART;VALUE=DATE:20210202
DTEND;VALUE=DATE:20210206
DTSTAMP:20200512T101602Z
URL:https://www.offshore-energy.biz/events/smm-hamburg-2021/
SUMMARY:SMM Hamburg 2021
DESCRIPTION:SMM Hamburg 2021\nSMM Hamburg is an international exhibition an
 d conference event for the maritime industry. This event provides insights
 \, knowledge\, innovative solutions and new business contacts for the mari
 time industry. During the SMM Hamburg there are extra events present. The 
 visitor is able to choose from several activities such as Maritime Future 
 Summit and Maritime Career Market.
ATTACH;FMTTYPE=image/jpeg:https://www.offshore-energy.biz/wp-content/uploa
 ds/sites/6/2020/04/1.-SMM_Entrance©Hamburg-Messe-und-Congress_Nicolas-Maa
 ck.jpg
LOCATION:Hamburg Messe und Congress\, Messeplatz 1\, Hamburg\, 20357 \, Ger
 many
X-APPLE-STRUCTURED-LOCATION;VALUE=URI;X-ADDRESS=Messeplatz 1\, Hamburg\, 20
 357 \, Germany;X-APPLE-RADIUS=100;X-TITLE=Hamburg Messe und Congress:geo:0
 ,0
END:VEVENT
END:VCALENDAR