BEGIN:VCALENDAR
VERSION:2.0
PRODID:-//wp-events-plugin.com//6.6.5//EN
TZID:Europe/Amsterdam
X-WR-TIMEZONE:Europe/Amsterdam
BEGIN:VEVENT
UID:6-1346@offshore-energy.biz
DTSTART;VALUE=DATE:20210512
DTEND;VALUE=DATE:20210514
DTSTAMP:20201120T134123Z
URL:https://www.offshore-energy.biz/events/sns-2021/
SUMMARY:SNS 2021
DESCRIPTION:Save the Date! EEEGR’s Southern North Sea Conference and Exhi
 bition will (hopefully!) be back the the Norfolk Showground on the 12th &a
 mp\; 13th May 2021!\n\nMore information to follow.\n\nDo you want to share
  your ideas or register your interest? Contact events@eeegr.com!
ATTACH;FMTTYPE=image/jpeg:https://www.offshore-energy.biz/wp-content/uploa
 ds/sites/6/2020/03/SNS2020_Navingo-Image.jpg
LOCATION:Norfolk Showground\, Dereham Rd\, Norwich\, NR5 0TT\, United Kingd
 om
X-APPLE-STRUCTURED-LOCATION;VALUE=URI;X-ADDRESS=Dereham Rd\, Norwich\, NR5 
 0TT\, United Kingdom;X-APPLE-RADIUS=100;X-TITLE=Norfolk Showground:geo:0,0
END:VEVENT
END:VCALENDAR