BEGIN:VCALENDAR
VERSION:2.0
PRODID:-//wp-events-plugin.com//6.6.5//EN
TZID:Europe/Amsterdam
X-WR-TIMEZONE:Europe/Amsterdam
BEGIN:VEVENT
UID:6-1280@offshore-energy.biz
DTSTART;VALUE=DATE:20200618
DTEND;VALUE=DATE:20200620
DTSTAMP:20200510T062240Z
URL:https://www.offshore-energy.biz/events/us-offshore-wind-2020/
SUMMARY:US Offshore Wind 2020
DESCRIPTION:US Offshore Wind 2020 \nUS Offshore Wind 2020 (USOW20) is an ev
 ent for companies that are exploring to invest\, want to discover new part
 ners or try to acquire contracts in expected US offshore wind projects. Th
 is is the fifth year USOW20 will be organized. Due to the coronavirus pand
 emic this years event will be hosted virtually. New Energy Update and Reut
 ers Events are organising US Offshore Wind.\n\nAt this event the visitors 
 have the opportunities to contact decision makers. For example they can ge
 t in touch with a developer\, investor\, EPCI contractor\, supplier\, manu
 facturer and key stakeholder.\nActivities\n\n 	There are networking and so
 cial events.\n 	Matchmaking and B2B meetings.\n 	Conference streams.\n 	Th
 e USOW Supply Chain Exhibition.\n
ATTACH;FMTTYPE=image/jpeg:https://www.offshore-energy.biz/wp-content/uploa
 ds/sites/6/2020/04/1900x900-Offshore-Energy-USOW.png
LOCATION:Boston Hynes Convention Center\, 900 Boylston St\, Boston\, MA 021
 15\, United States
X-APPLE-STRUCTURED-LOCATION;VALUE=URI;X-ADDRESS=900 Boylston St\, Boston\, 
 MA 02115\, United States;X-APPLE-RADIUS=100;X-TITLE=Boston Hynes Conventio
 n Center:geo:0,0
END:VEVENT
END:VCALENDAR