BEGIN:VCALENDAR
VERSION:2.0
PRODID:-//wp-events-plugin.com//6.6.5//EN
TZID:Europe/Amsterdam
X-WR-TIMEZONE:Europe/Amsterdam
BEGIN:VEVENT
UID:6-1361@offshore-energy.biz
DTSTART:20201215T100000Z
DTEND:20201215T110000Z
DTSTAMP:20201208T113521Z
URL:https://www.offshore-energy.biz/events/wind-energy-webinar-power-up-wi
 nd-farm-safety-and-efficiency-powered-by-brady-emea/
SUMMARY:Wind Energy Webinar: Power-up wind farm safety and efficiency  (pow
 ered by Brady EMEA)
DESCRIPTION:Wind energy is critical to the transition to renewable energy. 
 The wind energy sector is growing rapidly. However there are also risks to
  safety and health at work. After all\, there are many unique aspects to m
 aintenance of wind turbines on both onshore and offshore.\n\nDuring this w
 ebinar\, learn more about keeping your workers safe with Lockout / Tagout\
 , the importance of sustainable identification and efficient cleaning up o
 f spills.\n\nRegister now via here.
ATTACH;FMTTYPE=image/jpeg:https://www.offshore-energy.biz/wp-content/uploa
 ds/sites/6/2020/12/wind-webinar.jpg
END:VEVENT
END:VCALENDAR