BEGIN:VCALENDAR
VERSION:2.0
PRODID:-//wp-events-plugin.com//6.6.5//EN
TZID:Europe/Amsterdam
X-WR-TIMEZONE:Europe/Amsterdam
BEGIN:VEVENT
UID:6-1590@offshore-energy.biz
DTSTART;VALUE=DATE:20250408
DTEND;VALUE=DATE:20250411
DTSTAMP:20241220T124531Z
URL:https://www.offshore-energy.biz/events/wind-europe/
SUMMARY:Wind Europe
DESCRIPTION:WindEurope is delighted to join forces again with the city of C
 openhagen and our Danish partners to deliver another wide-ranging industry
  gathering – WindEurope’s Annual Event 2025 in Copenhagen. Denmark is 
 the birthplace of wind energy and the Danes are still breaking new wind po
 wer records right across the board. They are the only country in Europe to
  source more than half of their electricity from wind – up to 55%. We br
 oke attendance records in 2023 with close to 16\,000 participants and are 
 expecting to confirm this trend in 2025.\n\nOur 2030 targets are looming 
 – and Europe is looking to transform its energy system. We need big deci
 sions and a determined push to reach our goals. This is our chance to come
  together as a sector – to get our bearings and set our industry on the 
 road to success.\n\n&nbsp\;
ATTACH;FMTTYPE=image/jpeg:https://www.offshore-energy.biz/wp-content/uploa
 ds/sites/6/2022/04/WindEurope-logo-sm.gif
LOCATION:Bella Center\, Center Boulevard 5\, Copenhagen\, Denmark
X-APPLE-STRUCTURED-LOCATION;VALUE=URI;X-ADDRESS=Center Boulevard 5\, Copenh
 agen\, Denmark;X-APPLE-RADIUS=100;X-TITLE=Bella Center:geo:0,0
END:VEVENT
END:VCALENDAR