BEGIN:VCALENDAR
VERSION:2.0
PRODID:-//wp-events-plugin.com//6.6.5//EN
TZID:Europe/Amsterdam
X-WR-TIMEZONE:Europe/Amsterdam
BEGIN:VEVENT
UID:6-1467@offshore-energy.biz
DTSTART;VALUE=DATE:20230615
DTEND;VALUE=DATE:20230617
DTSTAMP:20230607T132230Z
URL:https://www.offshore-energy.biz/events/windday/
SUMMARY:WindDay
DESCRIPTION:De kracht van de wind is evident. Het is goedkoop\, schoon en g
 eopolitiek verstandig. De ontwikkeling van windenergie met het oog op een 
 duurzame Nederlandse energievoorziening levert een belangrijke bijdrage aa
 n een CO₂-arme samenleving en aan de Nederlandse economie. Het biedt\, m
 eer dan ooit\, oplossingen voor de globale klimaat- en energiecrises.\n\n\
 n\nAls transitieleider draagt Nederland mondiaal actief bij aan het versne
 llen van het halen van de klimaatdoelen. Daarbij is samenwerking onontbeer
 lijk: binnen de sector\, tussen Wind op Land en Wind op Zee\, tussen publi
 eke en private partijen\, binnen Nederland en daarbuiten in Europees verba
 nd en tussen sectoren die allen hun steentje bijdragen om een krachtig\, d
 uurzaam en veilig energiesysteem te realiseren.\n\nWe maken belangrijke st
 appen\, maar zien ook uitdagingen. Er is veel nodig om ons volle potentiee
 l te verwezenlijken. En hoe gaan we dat doen?\n\n\n\n\n\n\nHet vergt goede
  samenwerking\, krachtig bestuur\, voldoende arbeidskrachten\, een goede a
 fstemming van vraag en aanbod\, een flexibele energie-infrastructuur\, vei
 ligheidsbewustzijn en nog veel meer. De hoge gasprijzen maken dat het mome
 ntum om de energietransitie te versnellen gunstig is. Het draagvlak stijgt
 .\n\nTijdens de WindDay komen alle stakeholders samen om te bouwen aan de 
 toekomst. Samen gaan we volle kracht vooruit in deze enorme transitie. We
  nodigen ook jou van harte uit om hiervan deel uit te maken. Hoor van ins
 pirerende keynotes hun visie en ga zelf tijdens de verschillende worksho
 ps en ronde tafel sessies concreet aan de slag. En je hebt uiteraard ui
 tgebreid de kans om bij te praten en te netwerken met bestaande\, maar v
 ooral ook nieuwe collega’s\, en wellicht ook nieuwe samenwerkingspartner
 s\, uit de windsector!\n\n\n
ATTACH;FMTTYPE=image/jpeg:https://www.offshore-energy.biz/wp-content/uploa
 ds/sites/6/2023/06/Dia2.png?image-crop-positioner-ts=1686143216
LOCATION:Luchtvaartmuseum Aviodrome\, Pelikaanweg 50\, Lelystad\, Netherlan
 ds
X-APPLE-STRUCTURED-LOCATION;VALUE=URI;X-ADDRESS=Pelikaanweg 50\, Lelystad\,
  Netherlands;X-APPLE-RADIUS=100;X-TITLE=Luchtvaartmuseum Aviodrome:geo:0,0
END:VEVENT
END:VCALENDAR