BEGIN:VCALENDAR
VERSION:2.0
PRODID:-//wp-events-plugin.com//6.6.5//EN
TZID:Europe/Amsterdam
X-WR-TIMEZONE:Europe/Amsterdam
BEGIN:VEVENT
UID:6-1344@offshore-energy.biz
DTSTART:20211123T000000Z
DTEND:20211125T000000Z
DTSTAMP:20210212T121435Z
URL:https://www.offshore-energy.biz/events/windeurope-electric-city-2021/
SUMMARY:WindEurope Electric City 2021
DESCRIPTION:“Electric City” is a new onshore and offshore wind event\, 
 with participants from wind and beyond – heavy industry\, mobility\, dis
 trict and domestic heating\, storage\, hybrids\, hydrogen and many more 
 – to join the conversation on how we build a clean economy.\n\nThis mean
 s new voices at the conference\, debating changes we need in policy\, busi
 ness models and technology to deliver the transition.\n\nIt means new busi
 ness partners and customers for you on the exhibition floor. Including peo
 ple who haven’t engaged with wind before but now want to.\n\nIt means a 
 unique event where you’ll find the new technologies\, new thinking and n
 ew relationships to power the energy transition – and Europe’s Green D
 eal.
ATTACH;FMTTYPE=image/jpeg:https://www.offshore-energy.biz/wp-content/uploa
 ds/sites/6/2020/11/health-safety-min.jpg
END:VEVENT
END:VCALENDAR